BEGIN:VCALENDAR
VERSION:2.0
PRODID:-//St Christopher&#039;s Church Southbourne, Bournemouth - ECPv6.15.20//NONSGML v1.0//EN
CALSCALE:GREGORIAN
METHOD:PUBLISH
X-ORIGINAL-URL:https://saint-christophers.org.uk/cms2
X-WR-CALDESC:Events for St Christopher&#039;s Church Southbourne, Bournemouth
REFRESH-INTERVAL;VALUE=DURATION:PT1H
X-Robots-Tag:noindex
X-PUBLISHED-TTL:PT1H
BEGIN:VTIMEZONE
TZID:UTC
BEGIN:STANDARD
TZOFFSETFROM:+0000
TZOFFSETTO:+0000
TZNAME:UTC
DTSTART:20250101T000000
END:STANDARD
END:VTIMEZONE
BEGIN:VEVENT
DTSTART;TZID=UTC:20260426T160000
DTEND;TZID=UTC:20260426T174500
DTSTAMP:20260421T145136
CREATED:20260414T104547Z
LAST-MODIFIED:20260421T110055Z
UID:7143-1777219200-1777225500@saint-christophers.org.uk
SUMMARY:Messy Church
DESCRIPTION:Join us on Sunday 26 April at 4pm \nfor games\, craft\, worship and a simple meal.
URL:https://saint-christophers.org.uk/cms2/event/messy-church-15/
LOCATION:Dor
CATEGORIES:Messy Church
END:VEVENT
BEGIN:VEVENT
DTSTART;TZID=UTC:20260429T103000
DTEND;TZID=UTC:20260429T113000
DTSTAMP:20260421T145136
CREATED:20260421T110545Z
LAST-MODIFIED:20260421T110545Z
UID:7160-1777458600-1777462200@saint-christophers.org.uk
SUMMARY:Wednesday Morning Prayers
DESCRIPTION:Wednesday Morning Prayers \nat 10.30am in the Prayer Room (at the back of the church) \nAll are welcome to come and pray (whether silently or aloud). \nDo not be anxious about anything\, but in everything by prayer and supplication with thanksgiving let your requests be made known to God \nPhilippians 4:6
URL:https://saint-christophers.org.uk/cms2/event/wednesday-morning-prayers-47/
LOCATION:Dor
CATEGORIES:Prayer meeting,Prayers
END:VEVENT
BEGIN:VEVENT
DTSTART;TZID=UTC:20260503T100000
DTEND;TZID=UTC:20260503T113000
DTSTAMP:20260421T145136
CREATED:20260421T105239Z
LAST-MODIFIED:20260421T110019Z
UID:7155-1777802400-1777807800@saint-christophers.org.uk
SUMMARY:Sunday Worship with Communion
DESCRIPTION:A warm welcome awaits you at 10am for worship with Communion \nPsalm 22: 1-18 Theme: Prophesies concerning Jesus: The Passion of Jesus \nDuring our Service this morning a creche is available at the back of the church for parents with pre-school age children\, with baby facilities\, toys and colouring sheets. \nSchool age children will leave during the service to attend their age appropriate groups\, returning at the end of the service. \nSunday Club for Reception up to School year 5 in the hall\, and SCY for year 6 upwards in the back room off the hall. \nRefreshments will be served afterwards. \nWe hope that you can join us.
URL:https://saint-christophers.org.uk/cms2/event/sunday-worship-with-communion-27/
LOCATION:Dor
CATEGORIES:Communion,Creche,SCY youth group,Sunday Club,Sunday Worship
END:VEVENT
BEGIN:VEVENT
DTSTART;TZID=UTC:20260504T191500
DTEND;TZID=UTC:20260504T203000
DTSTAMP:20260421T145136
CREATED:20260407T114022Z
LAST-MODIFIED:20260407T114022Z
UID:7116-1777922100-1777926600@saint-christophers.org.uk
SUMMARY:Partnership Prayers St Christopher's
DESCRIPTION:Join us for Partnership Prayers at St Christopher’s Church \non Monday 4th May 7.15pm for 7.30pm
URL:https://saint-christophers.org.uk/cms2/event/partnership-prayers-st-christophers/
LOCATION:Dor
CATEGORIES:Prayer meeting,Prayers
END:VEVENT
END:VCALENDAR